BEGIN:VCALENDAR
VERSION:2.0
PRODID:-//hacksw/handcal//NONSGML v1.0//EN
CALSCALE:GREGORIAN
BEGIN:VEVENT
ORGANIZER;CN=GlobalFoundries Inc.:MAILTO:no-reply@gcs-web.com
DTEND:
UID:8fba4686-2e00-4c6f-87d0-dde9dc8e5f7f
DTSTAMP:1777129904
LOCATION:https://edge.media-server.com/mmc/p/g96p8d9k
DESCRIPTION:Event Details https://investors.gf.com/events/event-details/conference-call-review-first-quarter-fiscal-year-2026-financial-results\n\nWebcast: https://edge.media-server.com/mmc/p/g96p8d9k
URL;VALUE=URI:https://edge.media-server.com/mmc/p/g96p8d9k
SUMMARY:GlobalFoundries Inc. - Conference call to review first quarter of fiscal year 2026 financial results
DTSTART:20260505T133000Z
END:VEVENT
END:VCALENDAR